BEGIN:VCALENDAR
VERSION:2.0
PRODID:-//Department Of Education//d458029d-7a39-4dee-81be-04343587c297
BEGIN:VTIMEZONE
TZID:Australia/Sydney
TZURL:http://tzurl.org/zoneinfo-outlook/Australia/Sydney
X-LIC-LOCATION:Australia/Sydney
BEGIN:STANDARD
TZOFFSETFROM:+1100
TZOFFSETTO:+1000
TZNAME:AEST
DTSTART:19700405T030000
RRULE:FREQ=YEARLY;BYMONTH=4;BYDAY=1SU
END:STANDARD
BEGIN:DAYLIGHT
TZOFFSETFROM:+1000
TZOFFSETTO:+1100
TZNAME:AEDT
DTSTART:19701004T020000
RRULE:FREQ=YEARLY;BYMONTH=10;BYDAY=1SU
END:DAYLIGHT
END:VTIMEZONE
CALSCALE:GREGORIAN
X-WR-TIMEZONE:Australia/Sydney
BEGIN:VEVENT
DTSTART;VALUE=DATE:20200303
DTEND;VALUE=DATE:20200304
DTSTAMP:20200303T000000Z
UID:af82d7d9-5f22-435d-8810-48f27fd8e273
LOCATION:Blacktown Aquatic Centre
SUMMARY;LANGUAGE=en-us:Ridges Swimming Carnival
SEQUENCE:0
DESCRIPTION:Selected students will represent Riverbank at the zone (Ridges) Swimming Carnival. 
END:VEVENT
TRANSP:TRANSPARENT
END:VCALENDAR
