BEGIN:VCALENDAR
VERSION:2.0
PRODID:-//Department Of Education//514fbc68-c06f-4a10-99c7-ba04f2ffdcc3
BEGIN:VTIMEZONE
TZID:Australia/Sydney
TZURL:http://tzurl.org/zoneinfo-outlook/Australia/Sydney
X-LIC-LOCATION:Australia/Sydney
BEGIN:STANDARD
TZOFFSETFROM:+1100
TZOFFSETTO:+1000
TZNAME:AEST
DTSTART:19700405T030000
RRULE:FREQ=YEARLY;BYMONTH=4;BYDAY=1SU
END:STANDARD
BEGIN:DAYLIGHT
TZOFFSETFROM:+1000
TZOFFSETTO:+1100
TZNAME:AEDT
DTSTART:19701004T020000
RRULE:FREQ=YEARLY;BYMONTH=10;BYDAY=1SU
END:DAYLIGHT
END:VTIMEZONE
CALSCALE:GREGORIAN
X-WR-TIMEZONE:Australia/Sydney
BEGIN:VEVENT
DTSTART;TZID=Australia/Sydney:20200312T100045
DTEND;TZID=Australia/Sydney:20200312T113053
DTSTAMP:20200312T000000Z
UID:fcdb8256-cced-44fa-9097-cde0b983f2a0
LOCATION:Riverbank Public School
SUMMARY;LANGUAGE=en-us:Official Opening Maria Locke Innovation and Inquiry Hub
SEQUENCE:0
DESCRIPTION:The school community are invited to the official opening and naming ceremony of the Riverbank Public School Innovation and Inquiry Hub. The opening will be a Cleansing Ceremony followed by a traditional Welcome to Country by Darug Elders and our local Aboriginal community leaders.
END:VEVENT
TRANSP:TRANSPARENT
END:VCALENDAR
