BEGIN:VCALENDAR
VERSION:2.0
PRODID:-//Department Of Education//9ba906b4-0472-4048-9129-96b216eb2710
BEGIN:VTIMEZONE
TZID:Australia/Sydney
TZURL:http://tzurl.org/zoneinfo-outlook/Australia/Sydney
X-LIC-LOCATION:Australia/Sydney
BEGIN:STANDARD
TZOFFSETFROM:+1100
TZOFFSETTO:+1000
TZNAME:AEST
DTSTART:19700405T030000
RRULE:FREQ=YEARLY;BYMONTH=4;BYDAY=1SU
END:STANDARD
BEGIN:DAYLIGHT
TZOFFSETFROM:+1000
TZOFFSETTO:+1100
TZNAME:AEDT
DTSTART:19701004T020000
RRULE:FREQ=YEARLY;BYMONTH=10;BYDAY=1SU
END:DAYLIGHT
END:VTIMEZONE
CALSCALE:GREGORIAN
X-WR-TIMEZONE:Australia/Sydney
BEGIN:VEVENT
DTSTART;TZID=Australia/Sydney:20200221T090032
DTEND;TZID=Australia/Sydney:20200221T110037
DTSTAMP:20200221T000000Z
UID:dc708758-a7da-477a-9e44-bbcd4cab821c
LOCATION:Various ovals in Ridges zone
SUMMARY;LANGUAGE=en-us:PSSA Competition Matches
RRULE:FREQ=WEEKLY;INTERVAL=1;UNTIL=20200403;
SEQUENCE:0
DESCRIPTION:PSSA matches played by selected students against schools in the Ridhes zone
END:VEVENT
TRANSP:TRANSPARENT
END:VCALENDAR
